Workbook

Sheet PACC - SNCC.F.053
A2: SNCC.F.053 | N2: Fecha de Revisión | O2: 44116
N3: Fecha de Aprobación
N4: Versión | O4: 1
N5: No. de Páginas
A6: NOMBRE DE LA ENTIDAD:HOSPITAL REGIONAL UNIVERISTARIO PRESIDENTE ESTRELLA UREÑA
A7: PLAN ANUAL DE COMPRAS Y CONTRATACIONES AÑO 2021
D9: FECHA DE NECESIDAD
A10: CÓDIGO DEL CATÁLOGO DE BIENES Y SERVICIOS (CBS) | B10: DESCRIPCIÓN DE LA COMPRA O CONTRATACIÓN | C10: UNIDAD DE MEDIDA | D10: PRIMER TRIMESTRE | E10: SEGUNDO TRIMESTRE | F10: TERCER TRIMESTRE | G10: CUARTO TRIMESTRE | H10: CANTIDAD TOTAL | I10: PRECIO UNITARIO ESTIMADO | J10: COSTO TOTAL UNITARIO | K10: COSTO TOTAL POR CÓDIGO DE CATÁLOGO DE BIENES Y SERVICIOS (CBS) | L10: PROCEDIMIENTO DE SELECCIÓN | M10: FUENTE DE FINANCIAMIENTO | N10: VALOR ADQUIRIDO | O10: OBSERVACIÓN
A11: 1510 - Combustibles | B11: COMPRAS DE COMBUSTIBLES | C11: GALON | D11: 1000 | E11: 1500 | F11: 1000 | G11: 1500 | H11: =SUM('PACC - SNCC.F.053'!$D11:$G11) -> 5000 | I11: 225 | J11: =+H11*I11 -> 1125000 | K11: =SUM(J11:J15) -> 1154725 | L11: COMPRA MENOR | M11: VENTA DE SERVICIO | T11: 1010 - Animales vivos | W11: LICITACIÓN PÚBLICA INTERNACIONAL
A12: 5020 - Bebidas | B12: BOTELLAS DE AGUA | C12: UNIDAD | D12: 200 | E12: 225 | F12: 200 | G12: 450 | H12: =SUM('PACC - SNCC.F.053'!$D12:$G12) -> 1075 | I12: 15 | J12: =+H12*I12 -> 16125 | K12: =SUM(J12:J16) -> 31725 | L12: COMPRA MENOR | M12: VENTA DE SERVICIO | T12: 1011 - Productos de casa para el animal doméstico | W12: LICITACIÓN PÚBLICA NACIONAL
A13: 5020 - Bebidas | B13: BOTELLONES DE AGUA | C13: UNIDAD | D13: 50 | E13: 75 | F13: 75 | G13: 125 | H13: =SUM('PACC - SNCC.F.053'!$D13:$G13) -> 325 | I13: 20 | J13: =+H13*I13 -> 6500 | L13: COMPRA MENOR | M13: VENTA DE SERVICIO | T13: 1012 - Pienso para animales | W13: LICITACIÓN RESTRINGIDA
A14: 5020 - Bebidas | B14: TE CALIENTE 25/1 | C14: UNIDAD | D14: 5 | E14: 10 | F14: 5 | G14: 15 | H14: =SUM('PACC - SNCC.F.053'!$D14:$G14) -> 35 | I14: 110 | J14: =+H14*I14 -> 3850 | L14: COMPRA MENOR | M14: VENTA DE SERVICIO | T14: 1013 - Recipientes y hábitat para animales | W14: SORTEO DE OBRAS
A15: 5020 - Bebidas | B15: CAFÉ 20/1 | C15: UNIDAD | D15: 3 | E15: 2 | F15: 2 | G15: 6 | H15: =SUM('PACC - SNCC.F.053'!$D15:$G15) -> 13 | I15: 250 | J15: =+H15*I15 -> 3250 | L15: COMPRA MENOR | M15: VENTA DE SERVICIO | T15: 1014 - Artículos de talabartería y arreos | W15: COMPARACIÓN DE PRECIOS
A16: 5020 - Bebidas | B16: TE FRIO | C16: UNIDAD | D16: 2 | E16: 2 | F16: 2 | G16: 2 | H16: =SUM('PACC - SNCC.F.053'!$D16:$G16) -> 8 | I16: 250 | J16: =+H16*I16 -> 2000 | L16: COMPRA MENOR | M16: VENTA DE SERVICIO | T16: 1015 - Semillas, bulbos, plántulas y esquejes | W16: COMPRA MENOR
A17: 5016 - Chocolates, azúcares, edulcorantes y productos de confitería | B17: CREMORA | C17: UNIDAD | D17: 50 | E17: 75 | F17: 75 | G17: 50 | H17: =SUM('PACC - SNCC.F.053'!$D17:$G17) -> 250 | I17: 175 | J17: =+H17*I17 -> 43750 | K17: =SUM(J17:J18) -> 44375 | L17: COMPRA MENOR | M17: VENTA DE SERVICIO | T17: 1016 - Productos de floricultura y silvicultura | W17: COMPRA DIRECTA
A18: 5016 - Chocolates, azúcares, edulcorantes y productos de confitería | B18: AZUCAR 5 LIBRAS | C18: U | D18: 5 | E18: 10 | F18: 5 | G18: 5 | H18: =SUM('PACC - SNCC.F.053'!$D18:$G18) -> 25 | I18: 25 | J18: =+H18*I18 -> 625 | K18: =SUM(J18:J19) -> 620625 | L18: COMPRA MENOR | M18: VENTA DE SERVICIO | T18: 1017 - Abonos, nutrientes para plantas y herbicidas
A19: 4412 - Suministros de oficina | B19: PAPEL 8 1/2 x 11 | C19: RESMA | D19: 1000 | E19: 1000 | F19: 1000 | G19: 1000 | H19: =SUM('PACC - SNCC.F.053'!$D19:$G19) -> 4000 | I19: 155 | J19: =+H19*I19 -> 620000 | K19: =SUM(J19:J20) -> 960000 | L19: COMPRA MENOR | M19: VENTA DE SERVICIO | T19: 1019 - Productos para el control de plagas y malas hierbas
A20: 4412 - Suministros de oficina | B20: PAPEL 8 1/2 X 14 | C20: RESMA | D20: 500 | E20: 500 | F20: 500 | G20: 500 | H20: =SUM('PACC - SNCC.F.053'!$D20:$G20) -> 2000 | I20: 170 | J20: =+H20*I20 -> 340000 | K20: =SUM(J20:J21) -> 358000 | L20: COMPRA MENOR | M20: VENTA DE SERVICIO | T20: 1110 - Minerales, minerales metálicos y metales
A21: 4412 - Suministros de oficina | B21: LAPICES DE CARBON | C21: CAJA | D21: 50 | E21: 50 | F21: 50 | G21: 50 | H21: =SUM('PACC - SNCC.F.053'!$D21:$G21) -> 200 | I21: 90 | J21: =+H21*I21 -> 18000 | K21: =SUM(J21:J22) -> 114000 | L21: COMPRA MENOR | M21: VENTA DE SERVICIO | T21: 1111 - Tierra y piedra
A22: 4412 - Suministros de oficina | B22: FOLDER 8 1/2 X 11 | C22: CAJA | D22: 150 | E22: 150 | F22: 150 | G22: 150 | H22: =SUM('PACC - SNCC.F.053'!$D22:$G22) -> 600 | I22: 160 | J22: =+H22*I22 -> 96000 | K22: =SUM(J22:J23) -> 176000 | L22: COMPRA MENOR | M22: VENTA DE SERVICIO | T22: 1112 - Productos no comestibles de planta y silvicultura
A23: 4412 - Suministros de oficina | B23: FOLDER 8 1/2 X 11 COLORES | C23: CAJA | D23: 100 | E23: 100 | F23: 100 | G23: 100 | H23: =SUM('PACC - SNCC.F.053'!$D23:$G23) -> 400 | I23: 200 | J23: =+H23*I23 -> 80000 | K23: =SUM(J23:J24) -> 146000 | L23: COMPRA MENOR | M23: VENTA DE SERVICIO | T23: 1113 - Productos animales no comestibles
A24: 4412 - Suministros de oficina | B24: BOLIGRAFOS AZULES/ LAPICEROS | C24: CAJA | D24: 150 | E24: 150 | F24: 150 | G24: 150 | H24: =SUM('PACC - SNCC.F.053'!$D24:$G24) -> 600 | I24: 110 | J24: =+H24*I24 -> 66000 | K24: =SUM(J24:J25) -> 266000 | L24: COMPRA MENOR | M24: VENTA DE SERVICIO | T24: 1114 - Chatarra y materiales de desecho
A25: 4412 - Suministros de oficina | B25: PAPER CLIPS 50 MM | C25: CAJA | D25: 1000 | E25: 1000 | F25: 1000 | G25: 1000 | H25: =SUM('PACC - SNCC.F.053'!$D25:$G25) -> 4000 | I25: 50 | J25: =+H25*I25 -> 200000 | K25: =SUM(J25:J26) -> 380000 | L25: COMPRA MENOR | M25: VENTA DE SERVICIO | T25: 1115 - Fibra, hilos e hilados
A26: 4412 - Suministros de oficina | B26: PAPER CLIPS 33 MM | C26: CAJA | D26: 1000 | E26: 1000 | F26: 1000 | G26: 1000 | H26: =SUM('PACC - SNCC.F.053'!$D26:$G26) -> 4000 | I26: 45 | J26: =+H26*I26 -> 180000 | K26: =SUM(J26:J27) -> 260000 | L26: COMPRA MENOR | M26: VENTA DE SERVICIO | T26: 1116 - Tejidos y materiales de cuero
A27: 4412 - Suministros de oficina | B27: METAL PAPER FASTERNER 70 MM | C27: CAJA | D27: 100 | E27: 100 | F27: 100 | G27: 100 | H27: =SUM('PACC - SNCC.F.053'!$D27:$G27) -> 400 | I27: 200 | J27: =+H27*I27 -> 80000 | K27: =SUM(J27:J28) -> 170000 | L27: COMPRA MENOR | M27: VENTA DE SERVICIO | T27: 1117 - Aleaciones
A28: 4412 - Suministros de oficina | B28: GRAPAS 26/6 | C28: CAJA | D28: 150 | E28: 150 | F28: 150 | G28: 150 | H28: =SUM('PACC - SNCC.F.053'!$D28:$G28) -> 600 | I28: 150 | J28: =+H28*I28 -> 90000 | K28: =SUM(J28:J29) -> 154000 | L28: COMPRA MENOR | M28: VENTA DE SERVICIO | T28: 1118 - Óxido metálico
A29: 4412 - Suministros de oficina | B29: LIGA DE HULE | C29: CAJA | D29: 100 | E29: 100 | F29: 100 | G29: 100 | H29: =SUM('PACC - SNCC.F.053'!$D29:$G29) -> 400 | I29: 160 | J29: =+H29*I29 -> 64000 | K29: =SUM(J29:J30) -> 68000 | L29: COMPRA MENOR | M29: VENTA DE SERVICIO | T29: 1119 - Desechos metálicos y chatarra
... A303: 5255 - Categorías de medicamentos varios | B303: TUBOS SIMPLE CON MALLA LL-46 | C303: CAJA | D303: 60 | E303: 60 | F303: 60 | G303: 60 | H303: =SUM('PACC - SNCC.F.053'!$D303:$G303) -> 240 | I303: 1932.2 | J303: =+H303*I303 -> 463728 | K303: =SUM(J303:J304) -> 524088 | L303: COMPARACIÓN DE PRECIOS | M303: ANTICIPO FINANCIERO | T303: 8011 - Servicios de recursos humanos
A304: 5256 - Categorías de medicamentos varios | B304: V-LAB EMBARAZO 30/1 | C304: CAJA | D304: 15 | E304: 15 | F304: 15 | G304: 15 | H304: =SUM('PACC - SNCC.F.053'!$D304:$G304) -> 60 | I304: 1,006.00 | J304: =+H304*I304 -> 60360 | K304: =SUM(J304:J305) -> 673391.28 | L304: COMPARACIÓN DE PRECIOS | M304: ANTICIPO FINANCIERO | T304: 8012 - Servicios legales
A305: 5257 - Categorías de medicamentos varios | B305: MAGLUMI HTLV1+11 | C305: CAJA | D305: 6 | E305: 6 | F305: 6 | G305: 6 | H305: =SUM('PACC - SNCC.F.053'!$D305:$G305) -> 24 | I305: 25,542.97 | J305: =+H305*I305 -> 613031.28 | K305: =SUM(J305:J306) -> 982631.28 | L305: COMPARACIÓN DE PRECIOS | M305: ANTICIPO FINANCIERO | T305: 8013 - Servicios inmobiliarios
A306: 5258 - Categorías de medicamentos varios | B306: PT 4ML VIAL | C306: CAJA | D306: 240 | E306: 240 | F306: 240 | G306: 240 | H306: =SUM('PACC - SNCC.F.053'!$D306:$G306) -> 960 | I306: 385.00 | J306: =+H306*I306 -> 369600 | K306: =SUM(J306:J307) -> 798240 | L306: COMPARACIÓN DE PRECIOS | M306: ANTICIPO FINANCIERO | T306: 8014 - Comercialización y distribución
A307: 5259 - Categorías de medicamentos varios | B307: CUBETAS P/COAGULOMETRO PAQ/200 | C307: UNIDAD | D307: 60 | E307: 60 | F307: 60 | G307: 60 | H307: =SUM('PACC - SNCC.F.053'!$D307:$G307) -> 240 | I307: 1,786.00 | J307: =+H307*I307 -> 428640 | K307: =SUM(J307:J308) -> 588960 | L307: COMPARACIÓN DE PRECIOS | M307: ANTICIPO FINANCIERO | T307: 8015 - Política comercial y servicios
A308: 5260 - Categorías de medicamentos varios | B308: CLORURO CALCIO 4ML | C308: UNIDAD | D308: 120 | E308: 120 | F308: 120 | G308: 120 | H308: =SUM('PACC - SNCC.F.053'!$D308:$G308) -> 480 | I308: 334.00 | J308: =+H308*I308 -> 160320 | K308: =SUM(J308:J309) -> 177772.8 | L308: COMPARACIÓN DE PRECIOS | M308: ANTICIPO FINANCIERO | T308: 8016 - Servicios de administración de empresas
A309: 5261 - Categorías de medicamentos varios | B309: AMOXICILINA/ACIDO CLAVULANICO 30 | C309: UNIDAD | D309: 18 | E309: 18 | F309: 18 | G309: 18 | H309: =SUM('PACC - SNCC.F.053'!$D309:$G309) -> 72 | I309: 242.40 | J309: =+H309*I309 -> 17452.8 | K309: =SUM(J309:J310) -> 108652.8 | L309: COMPARACIÓN DE PRECIOS | M309: ANTICIPO FINANCIERO | T309: 8110 - Servicios profesionales de ingeniería
A310: 5262 - Categorías de medicamentos varios | B310: FALCEMIA | C310: CAJA | D310: 6 | E310: 6 | F310: 6 | G310: 6 | H310: =SUM('PACC - SNCC.F.053'!$D310:$G310) -> 24 | I310: 3,800.00 | J310: =+H310*I310 -> 91200 | K310: =SUM(J310:J311) -> 325800 | L310: COMPARACIÓN DE PRECIOS | M310: ANTICIPO FINANCIERO | T310: 8111 - Servicios informáticos
A311: 5263 - Categorías de medicamentos varios | B311: PROTEINA C REACTIVA,100 PRUEBAS | C311: CAJA | D311: 30 | E311: 30 | F311: 30 | G311: 30 | H311: =SUM('PACC - SNCC.F.053'!$D311:$G311) -> 120 | I311: 1,955.00 | J311: =+H311*I311 -> 234600 | K311: =SUM(J311:J312) -> 267720 | L311: COMPARACIÓN DE PRECIOS | M311: ANTICIPO FINANCIERO | T311: 8112 - Economía
A312: 5264 - Categorías de medicamentos varios | B312: AMILASA DIRECTA 60T | C312: CAJA | D312: 6 | E312: 6 | F312: 6 | G312: 6 | H312: =SUM('PACC - SNCC.F.053'!$D312:$G312) -> 24 | I312: 1,380.00 | J312: =+H312*I312 -> 33120 | K312: =SUM(J312:J313) -> 540960 | L312: COMPARACIÓN DE PRECIOS | M312: ANTICIPO FINANCIERO | T312: 8113 - Estadística
A313: 5265 - Categorías de medicamentos varios | B313: BIL TOTAL 230T | C313: CAJA | D313: 24 | E313: 24 | F313: 24 | G313: 24 | H313: =SUM('PACC - SNCC.F.053'!$D313:$G313) -> 96 | I313: 5,290.00 | J313: =+H313*I313 -> 507840 | K313: =SUM(J313:J314) -> 717600 | L313: COMPARACIÓN DE PRECIOS | M313: ANTICIPO FINANCIERO | T313: 8114 - Tecnologías de fabricación
A314: 5266 - Categorías de medicamentos varios | B314: TRIGLICERIDOS 190T | C314: CAJA | D314: 12 | E314: 12 | F314: 12 | G314: 12 | H314: =SUM('PACC - SNCC.F.053'!$D314:$G314) -> 48 | I314: 4,370.00 | J314: =+H314*I314 -> 209760 | K314: =SUM(J314:J315) -> 313260 | L314: COMPARACIÓN DE PRECIOS | M314: ANTICIPO FINANCIERO | T314: 8115 - Servicios de pedología
A315: 5267 - Categorías de medicamentos varios | B315: AGUA DESTILADA GAL | C315: GALON | D315: 150 | E315: 150 | F315: 150 | G315: 150 | H315: =SUM('PACC - SNCC.F.053'!$D315:$G315) -> 600 | I315: 172.50 | J315: =+H315*I315 -> 103500 | K315: =SUM(J315:J316) -> 706394.4 | L315: COMPARACIÓN DE PRECIOS | M315: ANTICIPO FINANCIERO | T315: 8210 - Publicidad
...

Sheet PACC - SNCC.F.053 (3)
A2: SNCC.F.053 | N2: Fecha de Revisión | O2: 41247
N3: Fecha de Aprobación | O3: 41248
N4: Versión | O4: 1
N5: No. de Páginas | O5: 10
A6: NOMBRE DE LA ENTIDAD: SERVICIO REGIONAL DE SALUD NORCENTRAL II
A7: PLAN ANUAL DE COMPRAS Y CONTRATACIONES AÑO 2020
D9: FECHA DE NECESIDAD
A10: CÓDIGO DEL CATÁLOGO DE BIENES Y SERVICIOS (CBS) | B10: DESCRIPCIÓN DE LA COMPRA O CONTRATACIÓN | C10: UNIDAD DE MEDIDA | D10: PRIMER TRIMESTRE | E10: SEGUNDO TRIMESTRE | F10: TERCER TRIMESTRE | G10: CUARTO TRIMESTRE | H10: CANTIDAD TOTAL | I10: PRECIO UNITARIO ESTIMADO | J10: COSTO TOTAL UNITARIO ESTIMADO | K10: COSTO TOTAL POR CÓDIGO DE CATÁLOGO DE BIENES Y SERVICIOS (CBS) | L10: PROCEDIMIENTO DE SELECCIÓN | M10: FUENTE DE FINANCIAMIENTO | N10: VALOR ADQUIRIDO | O10: OBSERVACIÓN
A11: 4110 - Equipo de laboratorio y científico | B11: Set de diagnóstico portátil | C11: Unidad | D11: 30 | E11: 30 | F11: 30 | G11: 32 | H11: 122 | I11: 21000 | J11: 630000 | K11: 2520000 | L11: COMPRA MENOR | M11: VENTA DE SERVICIOS | T11: 1011 - Productos de casa para el animal doméstico | W11: LICITACIÓN PÚBLICA NACIONAL
A12: 4111 - Instrumentos de medida, observación y ensayo | B12: Esfigmomanómetro portátil con brazalete para adulto | C12: Unidad | D12: 50 | E12: 50 | F12: 50 | G12: 48 | H12: 198 | I12: 3000 | J12: 594000 | K12: 3114000 | L12: COMPRA MENOR | M12: VENTA DE SERVICIOS | T12: 1012 - Pienso para animales | W12: LICITACIÓN RESTRINGIDA
A13: 4111 - Instrumentos de medida, observación y ensayo | B13: Esfigmomanómetro de pared para adulto | C13: Unidad | D13: 50 | E13: 50 | F13: 50 | G13: 57 | H13: 207 | I13: 8600 | J13: =+H13*I13 -> 1780200 | K13: 4894200 | L13: COMPRA MENOR | M13: VENTA DE SERVICIOS
A14: 4111 - Instrumentos de medida, observación y ensayo | B14: Esfigmomanometro con brasalete para niño | C14: Unidad | D14: 50 | E14: 50 | F14: 50 | G14: 57 | H14: =SUM('PACC - SNCC.F.053 (3)'!$D14:$G14) -> 207 | I14: 2300 | J14: =+H14*I14 -> 476100 | K14: 5370300 | L14: COMPRA DIRECTA | M14: VENTA DE SERVICIOS
A15: 4111 - Instrumentos de medida, observación y ensayo | B15: Estetoscopio doble campana | C15: Unidad | D15: 40 | E15: 40 | F15: 40 | G15: 35 | H15: 175 | I15: 950 | J15: 166250 | K15: 5536550 | L15: COMPRA DIRECTA | M15: VENTA DE SERVICIOS | T15: 1013 - Recipientes y hábitat para animales | W15: SORTEO DE OBRAS
A16: 4111 - Instrumentos de medida, observación y ensayo | B16: Set de Cura | C16: Unidad | D16: 40 | E16: 40 | F16: 40 | G16: 28 | H16: 148 | I16: 9500 | J16: =+H16*I16 -> 1406000 | K16: 6942550 | L16: COMPRA MENOR | M16: VENTA DE SERVICIOS
A17: 5612 - Mobiliario institucional, escolar y educativo y accesorios | B17: Vitrina de Metal para Medicamentos | C17: Unidad | D17: 25 | E17: 25 | F17: 25 | G17: 34 | H17: 109 | I17: 27500 | J17: =+H17*I17 -> 2997500 | K17: 9940050 | L17: COMPRA MENOR | M17: VENTA DE SERVICIOS
A18: 5612 - Mobiliario institucional, escolar y educativo y accesorios | B18: Camilla de 3 Posiciones | C18: Unidad | D18: 25 | E18: 25 | F18: 25 | G18: 24 | H18: 99 | I18: 104465.4 | J18: =+H18*I18 -> 10342075 | K18: 20282124 | L18: COMPARACIÓN DE PRECIOS | M18: VENTA DE SERVICIOS
A19: 4111 - Instrumentos de medida, observación y ensayo | B19: Balanza Pediatrica | C19: Unidad | D19: 20 | E19: 20 | F19: 20 | G19: 20 | H19: 80 | I19: 10050 | J19: =+H19*I19 -> 804000 | K19: 21086124 | L19: COMPRA MENOR | M19: VENTA DE SERVICIOS
A20: 4111 - Instrumentos de medida, observación y ensayo | B20: Ballanza de Adulto | C20: Unidad | D20: 25 | E20: 25 | F20: 25 | G20: 20 | H20: 95 | I20: 23010 | J20: =+H20*I20 -> 2185950 | K20: 23272074 | L20: COMPRA MENOR | M20: VENTA DE SERVICIOS
A21: 5612 - Mobiliario institucional, escolar y educativo y accesorios | B21: Lampara Cuello Ganzo | C21: Unidad | D21: 25 | E21: 25 | F21: 25 | G21: 39 | H21: 114 | I21: 15104 | J21: 1721856 | K21: 24993930 | L21: COMPRA MENOR | M21: VENTA DE SERVICIOS | T21: 1015 - Semillas, bulbos, plántulas y esquejes | W21: COMPRA MENOR
A22: 4111 - Instrumentos de medida, observación y ensayo | B22: Nebulizador | C22: Unidad | D22: 11 | E22: 11 | F22: 11 | G22: 11 | H22: 44 | I22: 2550 | J22: 112200 | K22: 25106130 | L22: COMPRA DIRECTA | M22: VENTA DE SERVICIOS | T22: 1016 - Productos de floricultura y silvicultura | W22: COMPRA DIRECTA
A23: 5612 - Mobiliario institucional, escolar y educativo y accesorios | B23: Extintores | C23: Unidad | D23: 17 | E23: 17 | F23: 17 | G23: 17 | H23: 68 | I23: 2300 | J23: =+H23*I23 -> 156400 | K23: 25262530 | L23: COMPRA DIRECTA | M23: VENTA DE SERVICIOS
A24: 4111 - Instrumentos de medida, observación y ensayo | B24: Estetoscopio Pediatrico | C24: Unidad | D24: 50 | E24: 50 | F24: 50 | G24: 55 | H24: 205 | I24: 3800 | J24: =+H24*I24 -> 779000 | K24: 29081000 | L24: COMPRA MENOR | M24: VENTA DE SERVICIOS
A25: 5612 - Mobiliario institucional, escolar y educativo y accesorios | B25: Esterilizador de Equipos (Autoclaves) | C25: Unidad | D25: 6 | E25: 6 | F25: 6 | G25: 6 | H25: 24 | I25: 75000 | J25: =+H25*I25 -> 1800000 | K25: 30881000 | L25: COMPRA MENOR | M25: VENTA DE SERVICIOS
A26: 4713 - Suministros de limpieza | B26: Material Gastable de Limpieza | C26: Unidad | D26: 1 | E26: 1 | F26: 1 | G26: 1 | H26: 4 | I26: 800000 | J26: =+Tabla13[[#This Row],[CANTIDAD TOTAL]]*Tabla13[[#This Row],[PRECIO UNITARIO ESTIMADO]] -> 3200000 | K26: 34081000 | L26: COMPRA MENOR | M26: VENTA DE SERVICIOS | T26: 1019 - Productos para el control de plagas y malas hierbas
A27: 8212 - Servicios de reproducción | B27: Impresos | C27: Unidad | D27: 3 | E27: 3 | F27: 3 | G27: 3 | H27: =SUM('PACC - SNCC.F.053 (3)'!$D27:$G27) -> 12 | I27: 500000 | J27: =+H27*I27 -> 6000000 | K27: 40081000 | L27: COMPRA MENOR | M27: VENTA DE SERVICIOS
A28: 3020 - Estructuras prefabricadas | B28: Refrigerios y Almuerzos | C28: Unidad | D28: 1 | E28: 1 | F28: 1 | G28: 1 | H28: =SUM('PACC - SNCC.F.053 (3)'!$D28:$G28) -> 4 | I28: 750000 | J28: =+H28*I28 -> 3000000 | K28: 43081000 | L28: COMPRA MENOR | M28: VENTA DE SERVICIOS
A29: 1411 - Productos de papel | B29: Material gastable de oficina | C29: Unidad | D29: 1 | E29: 1 | F29: 1 | G29: 1 | H29: =SUM('PACC - SNCC.F.053 (3)'!$D29:$G29) -> 4 | I29: 300000 | J29: =+H29*I29 -> 1200000 | K29: 44281000 | L29: COMPRA MENOR | M29: VENTA DE SERVICIOS
A30: 5121 - Categorías de medicamentos varios | B30: Medicamentos | C30: Unidad | D30: 1 | E30: 1 | F30: 1 | G30: 1 | H30: =SUM('PACC - SNCC.F.053 (3)'!$D30:$G30) -> 4 | I30: 2000000 | J30: =+H30*I30 -> 8000000 | K30: 52281000 | L30: COMPRA MENOR | M30: VENTA DE SERVICIOS
A31: 4112 - Suministros y accesorios de laboratorio | B31: Productos Quimicos de Laboratorio | C31: Unidad | D31: 1 | E31: 1 | F31: 1 | G31: 1 | H31: =SUM('PACC - SNCC.F.053 (3)'!$D31:$G31) -> 4 | I31: 2000000 | J31: =+H31*I31 -> 8000000 | K31: 60281000 | L31: COMPRA MENOR
A32: 1510 - Combustibles | B32: Combustible (Gasoil, Gasolina y Gas Propano) | C32: Unidad | D32: 4 | E32: 4 | F32: 4 | G32: 4 | H32: =SUM('PACC - SNCC.F.053 (3)'!$D32:$G32) -> 16 | I32: 3000000 | J32: =+H32*I32 -> 48000000 | K32: 98281000 | L32: COMPRA MENOR | M32: VENTA DE SERVICIOS
A33: 2510 - Vehículos de motor | B33: Mantenimiento de Vehículos | C33: Unidad | D33: 1 | E33: 1 | F33: 1 | G33: 1 | H33: 4 | I33: 500000 | J33: =+H33*I33 -> 2000000 | K33: 100281000 | L33: COMPRA DIRECTA | M33: VENTA DE SERVICIOS | T33: 1112 - Productos no comestibles de planta y silvicultura
A34: 5612 - Mobiliario institucional, escolar y educativo y accesorios | B34: Armario para Medicamentos | C34: Unidad | D34: 10 | E34: 10 | F34: 10 | G34: 10 | H34: 40 | I34: 42500 | J34: =+H34*I34 -> 1700000 | K34: 101981000 | L34: COMPRA MENOR | M34: VENTA DE SERVICIOS | T34: 1112 - Productos no comestibles de planta y silvicultura
A35: 5612 - Mobiliario institucional, escolar y educativo y accesorios | B35: Bancada de Metal | C35: Unidad | D35: 10 | E35: 10 | F35: 10 | G35: 10 | H35: 40 | I35: 10000 | J35: =+H35*I35 -> 400000 | K35: 102381000 | L35: COMPRA DIRECTA | M35: VENTA DE SERVICIOS | T35: 1112 - Productos no comestibles de planta y silvicultura
A36: 5612 - Mobiliario institucional, escolar y educativo y accesorios | B36: Sillon Ejecutivo | C36: Unidad | D36: 5 | E36: 5 | F36: 5 | G36: 15 | H36: 30 | I36: 9000 | J36: =+H36*I36 -> 270000 | K36: 102651000 | L36: COMPRA DIRECTA | M36: VENTA DE SERVICIOS | T36: 1112 - Productos no comestibles de planta y silvicultura
A37: 5612 - Mobiliario institucional, escolar y educativo y accesorios | B37: Sillas Secretariales | C37: Unidad | D37: 5 | E37: 5 | F37: 5 | G37: 5 | H37: 20 | I37: 4000 | J37: =+H37*I37 -> 80000 | K37: 102731000 | L37: COMPRA DIRECTA | M37: VENTA DE SERVICIOS | T37: 1112 - Productos no comestibles de planta y silvicultura
A38: 5612 - Mobiliario institucional, escolar y educativo y accesorios | B38: Escritorios | C38: Unidad | D38: 5 | E38: 5 | F38: 5 | G38: 5 | H38: 20 | I38: 10000 | J38: =+H38*I38 -> 200000 | K38: 102931000 | L38: COMPRA DIRECTA | M38: VENTA DE SERVICIOS | T38: 1112 - Productos no comestibles de planta y silvicultura
A39: 5612 - Mobiliario institucional, escolar y educativo y accesorios | B39: Archivos de Metal de 4 Gabetas | C39: Unidad | D39: 8 | E39: 8 | F39: 8 | G39: 6 | H39: 30 | I39: 8500 | J39: =+H39*I39 -> 255000 | K39: 103186000 | L39: COMPRA DIRECTA | M39: VENTA DE SERVICIOS | T39: 1112 - Productos no comestibles de planta y silvicultura
A40: 5612 - Mobiliario institucional, escolar y educativo y accesorios | B40: Archivos de Metal de 2 Gabetas | C40: Unidad | D40: 8 | E40: 8 | F40: 8 | G40: 6 | H40: 30 | I40: 5500 | J40: =+H40*I40 -> 165000 | K40: 103351000 | L40: COMPRA DIRECTA | M40: VENTA DE SERVICIOS | T40: 1112 - Productos no comestibles de planta y silvicultura
A41: 5612 - Mobiliario institucional, escolar y educativo y accesorios | B41: Sillas de Visitas | C41: Unidad | D41: 10 | E41: 10 | F41: 10 | G41: 10 | H41: 40 | I41: 1400 | J41: =+H41*I41 -> 56000 | K41: 103407000 | L41: COMPRA DIRECTA | M41: VENTA DE SERVICIOS | T41: 1112 - Productos no comestibles de planta y silvicultura
A42: 5612 - Mobiliario institucional, escolar y educativo y accesorios | B42: Mampara | C42: Unidad | D42: 10 | E42: 10 | F42: 10 | G42: 10 | H42: 40 | I42: 6000 | J42: 240000 | K42: 103647000 | L42: COMPRA DIRECTA | M42: VENTA DE SERVICIOS | T42: 1112 - Productos no comestibles de planta y silvicultura
...
